BEGIN:VCALENDAR
VERSION:2.0
PRODID:-//Knights of Columbus 8215 - ECPv6.15.20//NONSGML v1.0//EN
CALSCALE:GREGORIAN
METHOD:PUBLISH
X-ORIGINAL-URL:https://knightsofcolumbus8215.com
X-WR-CALDESC:Events for Knights of Columbus 8215
REFRESH-INTERVAL;VALUE=DURATION:PT1H
X-Robots-Tag:noindex
X-PUBLISHED-TTL:PT1H
BEGIN:VTIMEZONE
TZID:America/Regina
BEGIN:STANDARD
TZOFFSETFROM:-0600
TZOFFSETTO:-0600
TZNAME:CST
DTSTART:20180101T000000
END:STANDARD
END:VTIMEZONE
BEGIN:VEVENT
DTSTART;TZID=America/Regina:20190609T100000
DTEND;TZID=America/Regina:20190609T133000
DTSTAMP:20260424T212623
CREATED:20190211T142000Z
LAST-MODIFIED:20190211T142000Z
UID:3868-1560074400-1560087000@knightsofcolumbus8215.com
SUMMARY:Pancake Breakfast
DESCRIPTION:Enjoy a pancake breakfast after Sunday mass.
URL:https://knightsofcolumbus8215.com/event/pancake-breakfast-4/
LOCATION:Cathedral of the Holy Family\, 123 Nelson Road\, Saskatoon\, SK\, S7S 1H1\, Canada
CATEGORIES:Pancake Breakfast
END:VEVENT
BEGIN:VEVENT
DTSTART;TZID=America/Regina:20190512T100000
DTEND;TZID=America/Regina:20190512T133000
DTSTAMP:20260424T212623
CREATED:20190211T141913Z
LAST-MODIFIED:20190211T141913Z
UID:3866-1557655200-1557667800@knightsofcolumbus8215.com
SUMMARY:Pancake Breakfast
DESCRIPTION:Enjoy a pancake breakfast after Sunday mass.
URL:https://knightsofcolumbus8215.com/event/pancake-breakfast-3/
LOCATION:Cathedral of the Holy Family\, 123 Nelson Road\, Saskatoon\, SK\, S7S 1H1\, Canada
CATEGORIES:Pancake Breakfast
END:VEVENT
BEGIN:VEVENT
DTSTART;TZID=America/Regina:20190414T100000
DTEND;TZID=America/Regina:20190414T133000
DTSTAMP:20260424T212623
CREATED:20190211T141819Z
LAST-MODIFIED:20190211T141819Z
UID:3864-1555236000-1555248600@knightsofcolumbus8215.com
SUMMARY:Pancake Breakfast
DESCRIPTION:Enjoy a pancake breakfast after Sunday mass.
URL:https://knightsofcolumbus8215.com/event/pancake-breakfast-2/
LOCATION:Cathedral of the Holy Family\, 123 Nelson Road\, Saskatoon\, SK\, S7S 1H1\, Canada
CATEGORIES:Pancake Breakfast
END:VEVENT
BEGIN:VEVENT
DTSTART;TZID=America/Regina:20190310T100000
DTEND;TZID=America/Regina:20190310T133000
DTSTAMP:20260424T212623
CREATED:20190211T141726Z
LAST-MODIFIED:20190211T141726Z
UID:3862-1552212000-1552224600@knightsofcolumbus8215.com
SUMMARY:Pancake Breakfast
DESCRIPTION:Enjoy a pancake breakfast after Sunday mass.
URL:https://knightsofcolumbus8215.com/event/pancake-breakfast/
LOCATION:Cathedral of the Holy Family\, 123 Nelson Road\, Saskatoon\, SK\, S7S 1H1\, Canada
CATEGORIES:Pancake Breakfast
END:VEVENT
END:VCALENDAR