BEGIN:VCALENDAR
VERSION:2.0
PRODID:-//Knights of Columbus 8215 - ECPv6.15.20//NONSGML v1.0//EN
CALSCALE:GREGORIAN
METHOD:PUBLISH
X-ORIGINAL-URL:https://knightsofcolumbus8215.com
X-WR-CALDESC:Events for Knights of Columbus 8215
REFRESH-INTERVAL;VALUE=DURATION:PT1H
X-Robots-Tag:noindex
X-PUBLISHED-TTL:PT1H
BEGIN:VTIMEZONE
TZID:America/Regina
BEGIN:STANDARD
TZOFFSETFROM:-0600
TZOFFSETTO:-0600
TZNAME:CST
DTSTART:20180101T000000
END:STANDARD
END:VTIMEZONE
BEGIN:VEVENT
DTSTART;TZID=America/Regina:20190623T100000
DTEND;TZID=America/Regina:20190623T133000
DTSTAMP:20260424T190026
CREATED:20190211T141611Z
LAST-MODIFIED:20190211T141611Z
UID:3860-1561284000-1561296600@knightsofcolumbus8215.com
SUMMARY:Sunday Sundaes
DESCRIPTION:Enjoy a sundae after Sunday mass.
URL:https://knightsofcolumbus8215.com/event/sunday-sundaes-5/
LOCATION:Cathedral of the Holy Family\, 123 Nelson Road\, Saskatoon\, SK\, S7S 1H1\, Canada
CATEGORIES:Sunday Sundaes
END:VEVENT
BEGIN:VEVENT
DTSTART;TZID=America/Regina:20190526T100000
DTEND;TZID=America/Regina:20190526T133000
DTSTAMP:20260424T190026
CREATED:20190211T141509Z
LAST-MODIFIED:20190211T141509Z
UID:3858-1558864800-1558877400@knightsofcolumbus8215.com
SUMMARY:Sunday Sundaes
DESCRIPTION:Enjoy a sundae after Sunday mass.
URL:https://knightsofcolumbus8215.com/event/sunday-sundaes-4/
LOCATION:Cathedral of the Holy Family\, 123 Nelson Road\, Saskatoon\, SK\, S7S 1H1\, Canada
CATEGORIES:Sunday Sundaes
END:VEVENT
BEGIN:VEVENT
DTSTART;TZID=America/Regina:20190428T100000
DTEND;TZID=America/Regina:20190428T133000
DTSTAMP:20260424T190026
CREATED:20190211T141355Z
LAST-MODIFIED:20190211T141355Z
UID:3856-1556445600-1556458200@knightsofcolumbus8215.com
SUMMARY:Sunday Sundaes
DESCRIPTION:Enjoy a sundae after Sunday mass.
URL:https://knightsofcolumbus8215.com/event/sunday-sundaes-3/
LOCATION:Cathedral of the Holy Family\, 123 Nelson Road\, Saskatoon\, SK\, S7S 1H1\, Canada
CATEGORIES:Sunday Sundaes
END:VEVENT
BEGIN:VEVENT
DTSTART;TZID=America/Regina:20190324T100000
DTEND;TZID=America/Regina:20190324T133000
DTSTAMP:20260424T190026
CREATED:20190211T141304Z
LAST-MODIFIED:20190211T141304Z
UID:3854-1553421600-1553434200@knightsofcolumbus8215.com
SUMMARY:Sunday Sundaes
DESCRIPTION:Enjoy a sundae after Sunday mass.
URL:https://knightsofcolumbus8215.com/event/sunday-sundaes-2/
LOCATION:Cathedral of the Holy Family\, 123 Nelson Road\, Saskatoon\, SK\, S7S 1H1\, Canada
CATEGORIES:Sunday Sundaes
END:VEVENT
BEGIN:VEVENT
DTSTART;TZID=America/Regina:20190224T100000
DTEND;TZID=America/Regina:20190224T133000
DTSTAMP:20260424T190026
CREATED:20190211T141147Z
LAST-MODIFIED:20190211T141147Z
UID:3852-1551002400-1551015000@knightsofcolumbus8215.com
SUMMARY:Sunday Sundaes
DESCRIPTION:Enjoy a sundae after Sunday mass.
URL:https://knightsofcolumbus8215.com/event/sunday-sundaes/
LOCATION:Cathedral of the Holy Family\, 123 Nelson Road\, Saskatoon\, SK\, S7S 1H1\, Canada
CATEGORIES:Sunday Sundaes
END:VEVENT
END:VCALENDAR