BEGIN:VCALENDAR
VERSION:2.0
PRODID:-//Knights of Columbus 8215 - ECPv6.15.20//NONSGML v1.0//EN
CALSCALE:GREGORIAN
METHOD:PUBLISH
X-ORIGINAL-URL:https://knightsofcolumbus8215.com
X-WR-CALDESC:Events for Knights of Columbus 8215
REFRESH-INTERVAL;VALUE=DURATION:PT1H
X-Robots-Tag:noindex
X-PUBLISHED-TTL:PT1H
BEGIN:VTIMEZONE
TZID:America/Regina
BEGIN:STANDARD
TZOFFSETFROM:-0600
TZOFFSETTO:-0600
TZNAME:CST
DTSTART:20180101T000000
END:STANDARD
END:VTIMEZONE
BEGIN:VEVENT
DTSTART;TZID=America/Regina:20190601T100000
DTEND;TZID=America/Regina:20190601T180000
DTSTAMP:20260424T171825
CREATED:20190517T150217Z
LAST-MODIFIED:20190517T150217Z
UID:4224-1559383200-1559412000@knightsofcolumbus8215.com
SUMMARY:Help - Raffle Ticket Sales
DESCRIPTION:
URL:https://knightsofcolumbus8215.com/event/help-raffle-ticket-sales-3/
LOCATION:Lawson Heights Mall\, 134 Primrose Dr\,\, Saskatoon\, Sk\, S7K 5C6\, Canada
CATEGORIES:Volunteer
END:VEVENT
BEGIN:VEVENT
DTSTART;TZID=America/Regina:20190531T093000
DTEND;TZID=America/Regina:20190531T173000
DTSTAMP:20260424T171825
CREATED:20190517T150005Z
LAST-MODIFIED:20190517T150005Z
UID:4221-1559295000-1559323800@knightsofcolumbus8215.com
SUMMARY:Help - Raffle Ticket Sales
DESCRIPTION:
URL:https://knightsofcolumbus8215.com/event/help-raffle-ticket-sales-2/
LOCATION:Lawson Heights Mall\, 134 Primrose Dr\,\, Saskatoon\, Sk\, S7K 5C6\, Canada
CATEGORIES:Volunteer
END:VEVENT
BEGIN:VEVENT
DTSTART;TZID=America/Regina:20190525T100000
DTEND;TZID=America/Regina:20190525T180000
DTSTAMP:20260424T171825
CREATED:20190517T143646Z
LAST-MODIFIED:20190517T150744Z
UID:4209-1558778400-1558807200@knightsofcolumbus8215.com
SUMMARY:Help - Raffle Ticket Sales
DESCRIPTION:
URL:https://knightsofcolumbus8215.com/event/help-raffle-ticket-sales/
LOCATION:Lawson Heights Mall\, 134 Primrose Dr\,\, Saskatoon\, Sk\, S7K 5C6\, Canada
CATEGORIES:Volunteer
END:VEVENT
BEGIN:VEVENT
DTSTART;TZID=America/Regina:20190504T093000
DTEND;TZID=America/Regina:20190504T120000
DTSTAMP:20260424T171825
CREATED:20190426T025040Z
LAST-MODIFIED:20190426T025402Z
UID:4149-1556962200-1556971200@knightsofcolumbus8215.com
SUMMARY:Food Bank Drive
DESCRIPTION:The annual Saskatoon Food Bank Drive is on Saturday\, May 4th from 9:30 am until noon. If any Knights are able to help with this please contact Gil Wist.
URL:https://knightsofcolumbus8215.com/event/food-bank-drive/
LOCATION:Saskatoon
CATEGORIES:Volunteer
END:VEVENT
BEGIN:VEVENT
DTSTART;TZID=America/Regina:20190502T170000
DTEND;TZID=America/Regina:20190502T190000
DTSTAMP:20260424T171825
CREATED:20190426T025301Z
LAST-MODIFIED:20190426T025329Z
UID:4152-1556816400-1556823600@knightsofcolumbus8215.com
SUMMARY:Barbecue Supper
DESCRIPTION:The barbecue supper at Sutherland Place that was originally scheduled for April 25th has been moved to May 2nd. We will need Knights to help prepare and serve the meal for the residents. If you are able to help out that evening please contact Garry Maier.
URL:https://knightsofcolumbus8215.com/event/barbecue-supper/
LOCATION:Saskatoon
CATEGORIES:Volunteer
END:VEVENT
END:VCALENDAR