BEGIN:VCALENDAR
VERSION:2.0
PRODID:-//Knights of Columbus 8215 - ECPv6.15.20//NONSGML v1.0//EN
CALSCALE:GREGORIAN
METHOD:PUBLISH
X-WR-CALNAME:Knights of Columbus 8215
X-ORIGINAL-URL:https://knightsofcolumbus8215.com
X-WR-CALDESC:Events for Knights of Columbus 8215
REFRESH-INTERVAL;VALUE=DURATION:PT1H
X-Robots-Tag:noindex
X-PUBLISHED-TTL:PT1H
BEGIN:VTIMEZONE
TZID:America/Regina
BEGIN:STANDARD
TZOFFSETFROM:-0600
TZOFFSETTO:-0600
TZNAME:CST
DTSTART:20180101T000000
END:STANDARD
END:VTIMEZONE
BEGIN:VEVENT
DTSTART;TZID=America/Regina:20191025T093000
DTEND;TZID=America/Regina:20191025T170000
DTSTAMP:20260424T121917
CREATED:20190517T203745Z
LAST-MODIFIED:20190517T203745Z
UID:4248-1571995800-1572022800@knightsofcolumbus8215.com
SUMMARY:Help - Raffle Ticket Sales
DESCRIPTION:
URL:https://knightsofcolumbus8215.com/event/help-raffle-ticket-sales-10/
LOCATION:COOP on Attridge Drive\, 402 Ludlow St\,\, Saskatoon\, Sk\, S7S 1M7
CATEGORIES:Volunteer
END:VEVENT
BEGIN:VEVENT
DTSTART;TZID=America/Regina:20191012T100000
DTEND;TZID=America/Regina:20191012T180000
DTSTAMP:20260424T121917
CREATED:20190517T204227Z
LAST-MODIFIED:20190517T204227Z
UID:4250-1570874400-1570903200@knightsofcolumbus8215.com
SUMMARY:Help - Raffle Ticket Sales
DESCRIPTION:
URL:https://knightsofcolumbus8215.com/event/help-raffle-ticket-sales-11/
LOCATION:COOP at Circle Center\, 3310 8 St E\,\, Saskatoon\, Sk.\, S7H 5M3
CATEGORIES:Volunteer
END:VEVENT
BEGIN:VEVENT
DTSTART;TZID=America/Regina:20190928T100000
DTEND;TZID=America/Regina:20190928T180000
DTSTAMP:20260424T121917
CREATED:20190517T203700Z
LAST-MODIFIED:20190517T203700Z
UID:4246-1569664800-1569693600@knightsofcolumbus8215.com
SUMMARY:Help - Raffle Ticket Sales
DESCRIPTION:
URL:https://knightsofcolumbus8215.com/event/help-raffle-ticket-sales-9/
LOCATION:COOP on Attridge Drive\, 402 Ludlow St\,\, Saskatoon\, Sk\, S7S 1M7
CATEGORIES:Volunteer
END:VEVENT
BEGIN:VEVENT
DTSTART;TZID=America/Regina:20190920T093000
DTEND;TZID=America/Regina:20190920T170000
DTSTAMP:20260424T121917
CREATED:20190517T203553Z
LAST-MODIFIED:20190517T203553Z
UID:4244-1568971800-1568998800@knightsofcolumbus8215.com
SUMMARY:Help - Raffle Ticket Sales
DESCRIPTION:
URL:https://knightsofcolumbus8215.com/event/help-raffle-ticket-sales-8/
LOCATION:COOP on Attridge Drive\, 402 Ludlow St\,\, Saskatoon\, Sk\, S7S 1M7
CATEGORIES:Volunteer
END:VEVENT
BEGIN:VEVENT
DTSTART;TZID=America/Regina:20190831T100000
DTEND;TZID=America/Regina:20190831T180000
DTSTAMP:20260424T121917
CREATED:20190517T150518Z
LAST-MODIFIED:20190517T150518Z
UID:4230-1567245600-1567274400@knightsofcolumbus8215.com
SUMMARY:Help - Raffle Ticket Sales
DESCRIPTION:
URL:https://knightsofcolumbus8215.com/event/help-raffle-ticket-sales-6/
LOCATION:Lawson Heights Mall\, 134 Primrose Dr\,\, Saskatoon\, Sk\, S7K 5C6\, Canada
CATEGORIES:Volunteer
END:VEVENT
BEGIN:VEVENT
DTSTART;TZID=America/Regina:20190830T093000
DTEND;TZID=America/Regina:20190830T170000
DTSTAMP:20260424T121917
CREATED:20190517T150424Z
LAST-MODIFIED:20190517T150424Z
UID:4228-1567157400-1567184400@knightsofcolumbus8215.com
SUMMARY:Help - Raffle Ticket Sales
DESCRIPTION:
URL:https://knightsofcolumbus8215.com/event/help-raffle-ticket-sales-5/
LOCATION:Lawson Heights Mall\, 134 Primrose Dr\,\, Saskatoon\, Sk\, S7K 5C6\, Canada
CATEGORIES:Volunteer
END:VEVENT
BEGIN:VEVENT
DTSTART;TZID=America/Regina:20190824T100000
DTEND;TZID=America/Regina:20190824T180000
DTSTAMP:20260424T121917
CREATED:20190517T150319Z
LAST-MODIFIED:20190517T150319Z
UID:4226-1566640800-1566669600@knightsofcolumbus8215.com
SUMMARY:Help - Raffle Ticket Sales
DESCRIPTION:
URL:https://knightsofcolumbus8215.com/event/help-raffle-ticket-sales-4/
LOCATION:Lawson Heights Mall\, 134 Primrose Dr\,\, Saskatoon\, Sk\, S7K 5C6\, Canada
CATEGORIES:Volunteer
END:VEVENT
BEGIN:VEVENT
DTSTART;TZID=America/Regina:20190810T100000
DTEND;TZID=America/Regina:20190810T180000
DTSTAMP:20260424T121917
CREATED:20190517T203501Z
LAST-MODIFIED:20190517T203501Z
UID:4242-1565431200-1565460000@knightsofcolumbus8215.com
SUMMARY:Help - Raffle Ticket Sales
DESCRIPTION:
URL:https://knightsofcolumbus8215.com/event/help-raffle-ticket-sales-7/
LOCATION:COOP on Attridge Drive\, 402 Ludlow St\,\, Saskatoon\, Sk\, S7S 1M7
CATEGORIES:Volunteer
END:VEVENT
BEGIN:VEVENT
DTSTART;TZID=America/Regina:20190713T100000
DTEND;TZID=America/Regina:20190713T180000
DTSTAMP:20260424T121917
CREATED:20190517T203342Z
LAST-MODIFIED:20190517T203413Z
UID:4239-1563012000-1563040800@knightsofcolumbus8215.com
SUMMARY:Help - Raffle Ticket Sales
DESCRIPTION:
URL:https://knightsofcolumbus8215.com/event/4239/
LOCATION:COOP on Attridge Drive\, 402 Ludlow St\,\, Saskatoon\, Sk\, S7S 1M7
CATEGORIES:Volunteer
END:VEVENT
BEGIN:VEVENT
DTSTART;TZID=America/Regina:20190623T100000
DTEND;TZID=America/Regina:20190623T133000
DTSTAMP:20260424T121917
CREATED:20190211T141611Z
LAST-MODIFIED:20190211T141611Z
UID:3860-1561284000-1561296600@knightsofcolumbus8215.com
SUMMARY:Sunday Sundaes
DESCRIPTION:Enjoy a sundae after Sunday mass.
URL:https://knightsofcolumbus8215.com/event/sunday-sundaes-5/
LOCATION:Cathedral of the Holy Family\, 123 Nelson Road\, Saskatoon\, SK\, S7S 1H1\, Canada
CATEGORIES:Sunday Sundaes
END:VEVENT
BEGIN:VEVENT
DTSTART;TZID=America/Regina:20190615T100000
DTEND;TZID=America/Regina:20190615T180000
DTSTAMP:20260424T121917
CREATED:20190517T203111Z
LAST-MODIFIED:20190517T203256Z
UID:4234-1560592800-1560621600@knightsofcolumbus8215.com
SUMMARY:Help - Raffle Ticket Sales
DESCRIPTION:
URL:https://knightsofcolumbus8215.com/event/4234/
LOCATION:COOP on Attridge Drive\, 402 Ludlow St\,\, Saskatoon\, Sk\, S7S 1M7
CATEGORIES:Volunteer
END:VEVENT
BEGIN:VEVENT
DTSTART;TZID=America/Regina:20190609T100000
DTEND;TZID=America/Regina:20190609T133000
DTSTAMP:20260424T121917
CREATED:20190211T142000Z
LAST-MODIFIED:20190211T142000Z
UID:3868-1560074400-1560087000@knightsofcolumbus8215.com
SUMMARY:Pancake Breakfast
DESCRIPTION:Enjoy a pancake breakfast after Sunday mass.
URL:https://knightsofcolumbus8215.com/event/pancake-breakfast-4/
LOCATION:Cathedral of the Holy Family\, 123 Nelson Road\, Saskatoon\, SK\, S7S 1H1\, Canada
CATEGORIES:Pancake Breakfast
END:VEVENT
BEGIN:VEVENT
DTSTART;VALUE=DATE:20190607
DTEND;VALUE=DATE:20190608
DTSTAMP:20260424T121917
CREATED:20190426T024610Z
LAST-MODIFIED:20190426T024610Z
UID:4142-1559865600-1559951999@knightsofcolumbus8215.com
SUMMARY:Cardinal Collins
DESCRIPTION:Cardinal Collins is coming to Saskatoon June 6-8. He will be at the Cathedral on Friday\, June 7th. The cost is $100 to register.
URL:https://knightsofcolumbus8215.com/event/cardinal-collins/
LOCATION:Cathedral of the Holy Family\, 123 Nelson Road\, Saskatoon\, SK\, S7S 1H1\, Canada
CATEGORIES:Events
END:VEVENT
BEGIN:VEVENT
DTSTART;TZID=America/Regina:20190601T100000
DTEND;TZID=America/Regina:20190601T180000
DTSTAMP:20260424T121917
CREATED:20190517T150217Z
LAST-MODIFIED:20190517T150217Z
UID:4224-1559383200-1559412000@knightsofcolumbus8215.com
SUMMARY:Help - Raffle Ticket Sales
DESCRIPTION:
URL:https://knightsofcolumbus8215.com/event/help-raffle-ticket-sales-3/
LOCATION:Lawson Heights Mall\, 134 Primrose Dr\,\, Saskatoon\, Sk\, S7K 5C6\, Canada
CATEGORIES:Volunteer
END:VEVENT
BEGIN:VEVENT
DTSTART;TZID=America/Regina:20190531T093000
DTEND;TZID=America/Regina:20190531T173000
DTSTAMP:20260424T121917
CREATED:20190517T150005Z
LAST-MODIFIED:20190517T150005Z
UID:4221-1559295000-1559323800@knightsofcolumbus8215.com
SUMMARY:Help - Raffle Ticket Sales
DESCRIPTION:
URL:https://knightsofcolumbus8215.com/event/help-raffle-ticket-sales-2/
LOCATION:Lawson Heights Mall\, 134 Primrose Dr\,\, Saskatoon\, Sk\, S7K 5C6\, Canada
CATEGORIES:Volunteer
END:VEVENT
BEGIN:VEVENT
DTSTART;TZID=America/Regina:20190526T100000
DTEND;TZID=America/Regina:20190526T133000
DTSTAMP:20260424T121917
CREATED:20190211T141509Z
LAST-MODIFIED:20190211T141509Z
UID:3858-1558864800-1558877400@knightsofcolumbus8215.com
SUMMARY:Sunday Sundaes
DESCRIPTION:Enjoy a sundae after Sunday mass.
URL:https://knightsofcolumbus8215.com/event/sunday-sundaes-4/
LOCATION:Cathedral of the Holy Family\, 123 Nelson Road\, Saskatoon\, SK\, S7S 1H1\, Canada
CATEGORIES:Sunday Sundaes
END:VEVENT
BEGIN:VEVENT
DTSTART;TZID=America/Regina:20190525T100000
DTEND;TZID=America/Regina:20190525T180000
DTSTAMP:20260424T121917
CREATED:20190517T143646Z
LAST-MODIFIED:20190517T150744Z
UID:4209-1558778400-1558807200@knightsofcolumbus8215.com
SUMMARY:Help - Raffle Ticket Sales
DESCRIPTION:
URL:https://knightsofcolumbus8215.com/event/help-raffle-ticket-sales/
LOCATION:Lawson Heights Mall\, 134 Primrose Dr\,\, Saskatoon\, Sk\, S7K 5C6\, Canada
CATEGORIES:Volunteer
END:VEVENT
BEGIN:VEVENT
DTSTART;TZID=America/Regina:20190512T100000
DTEND;TZID=America/Regina:20190512T133000
DTSTAMP:20260424T121917
CREATED:20190211T141913Z
LAST-MODIFIED:20190211T141913Z
UID:3866-1557655200-1557667800@knightsofcolumbus8215.com
SUMMARY:Pancake Breakfast
DESCRIPTION:Enjoy a pancake breakfast after Sunday mass.
URL:https://knightsofcolumbus8215.com/event/pancake-breakfast-3/
LOCATION:Cathedral of the Holy Family\, 123 Nelson Road\, Saskatoon\, SK\, S7S 1H1\, Canada
CATEGORIES:Pancake Breakfast
END:VEVENT
BEGIN:VEVENT
DTSTART;TZID=America/Regina:20190510T170000
DTEND;TZID=America/Regina:20190510T223000
DTSTAMP:20260424T121917
CREATED:20190426T024733Z
LAST-MODIFIED:20190426T024733Z
UID:4144-1557507600-1557527400@knightsofcolumbus8215.com
SUMMARY:Bishop’s Dinner
DESCRIPTION:The Bishop’s Dinner will be Friday\, May 10th at the Cathedral.
URL:https://knightsofcolumbus8215.com/event/bishops-dinner/
LOCATION:Cathedral of the Holy Family\, 123 Nelson Road\, Saskatoon\, SK\, S7S 1H1\, Canada
CATEGORIES:Events
END:VEVENT
BEGIN:VEVENT
DTSTART;VALUE=DATE:20190509
DTEND;VALUE=DATE:20190510
DTSTAMP:20260424T121917
CREATED:20190426T024914Z
LAST-MODIFIED:20190426T024914Z
UID:4146-1557360000-1557446399@knightsofcolumbus8215.com
SUMMARY:March for Life
DESCRIPTION:In Support of Life: – The March for Life is Thursday\, May 9 in Regina.
URL:https://knightsofcolumbus8215.com/event/march-for-life/
LOCATION:Regina
CATEGORIES:Events
END:VEVENT
BEGIN:VEVENT
DTSTART;TZID=America/Regina:20190504T093000
DTEND;TZID=America/Regina:20190504T120000
DTSTAMP:20260424T121917
CREATED:20190426T025040Z
LAST-MODIFIED:20190426T025402Z
UID:4149-1556962200-1556971200@knightsofcolumbus8215.com
SUMMARY:Food Bank Drive
DESCRIPTION:The annual Saskatoon Food Bank Drive is on Saturday\, May 4th from 9:30 am until noon. If any Knights are able to help with this please contact Gil Wist.
URL:https://knightsofcolumbus8215.com/event/food-bank-drive/
LOCATION:Saskatoon
CATEGORIES:Volunteer
END:VEVENT
BEGIN:VEVENT
DTSTART;TZID=America/Regina:20190502T170000
DTEND;TZID=America/Regina:20190502T190000
DTSTAMP:20260424T121917
CREATED:20190426T025301Z
LAST-MODIFIED:20190426T025329Z
UID:4152-1556816400-1556823600@knightsofcolumbus8215.com
SUMMARY:Barbecue Supper
DESCRIPTION:The barbecue supper at Sutherland Place that was originally scheduled for April 25th has been moved to May 2nd. We will need Knights to help prepare and serve the meal for the residents. If you are able to help out that evening please contact Garry Maier.
URL:https://knightsofcolumbus8215.com/event/barbecue-supper/
LOCATION:Saskatoon
CATEGORIES:Volunteer
END:VEVENT
BEGIN:VEVENT
DTSTART;TZID=America/Regina:20190428T100000
DTEND;TZID=America/Regina:20190428T133000
DTSTAMP:20260424T121917
CREATED:20190211T141355Z
LAST-MODIFIED:20190211T141355Z
UID:3856-1556445600-1556458200@knightsofcolumbus8215.com
SUMMARY:Sunday Sundaes
DESCRIPTION:Enjoy a sundae after Sunday mass.
URL:https://knightsofcolumbus8215.com/event/sunday-sundaes-3/
LOCATION:Cathedral of the Holy Family\, 123 Nelson Road\, Saskatoon\, SK\, S7S 1H1\, Canada
CATEGORIES:Sunday Sundaes
END:VEVENT
BEGIN:VEVENT
DTSTART;TZID=America/Regina:20190414T100000
DTEND;TZID=America/Regina:20190414T133000
DTSTAMP:20260424T121917
CREATED:20190211T141819Z
LAST-MODIFIED:20190211T141819Z
UID:3864-1555236000-1555248600@knightsofcolumbus8215.com
SUMMARY:Pancake Breakfast
DESCRIPTION:Enjoy a pancake breakfast after Sunday mass.
URL:https://knightsofcolumbus8215.com/event/pancake-breakfast-2/
LOCATION:Cathedral of the Holy Family\, 123 Nelson Road\, Saskatoon\, SK\, S7S 1H1\, Canada
CATEGORIES:Pancake Breakfast
END:VEVENT
BEGIN:VEVENT
DTSTART;TZID=America/Regina:20190409T180000
DTEND;TZID=America/Regina:20190409T210000
DTSTAMP:20260424T121917
CREATED:20190211T142226Z
LAST-MODIFIED:20190211T142226Z
UID:3870-1554832800-1554843600@knightsofcolumbus8215.com
SUMMARY:African Childrens Choir
DESCRIPTION:Enjoy an evening of song and dance watching and listening a wonderful group of children from Africa.
URL:https://knightsofcolumbus8215.com/event/african-childrens-choir/
LOCATION:Cathedral of the Holy Family\, 123 Nelson Road\, Saskatoon\, SK\, S7S 1H1\, Canada
CATEGORIES:Events
END:VEVENT
BEGIN:VEVENT
DTSTART;TZID=America/Regina:20190324T100000
DTEND;TZID=America/Regina:20190324T133000
DTSTAMP:20260424T121917
CREATED:20190211T141304Z
LAST-MODIFIED:20190211T141304Z
UID:3854-1553421600-1553434200@knightsofcolumbus8215.com
SUMMARY:Sunday Sundaes
DESCRIPTION:Enjoy a sundae after Sunday mass.
URL:https://knightsofcolumbus8215.com/event/sunday-sundaes-2/
LOCATION:Cathedral of the Holy Family\, 123 Nelson Road\, Saskatoon\, SK\, S7S 1H1\, Canada
CATEGORIES:Sunday Sundaes
END:VEVENT
BEGIN:VEVENT
DTSTART;TZID=America/Regina:20190310T100000
DTEND;TZID=America/Regina:20190310T133000
DTSTAMP:20260424T121917
CREATED:20190211T141726Z
LAST-MODIFIED:20190211T141726Z
UID:3862-1552212000-1552224600@knightsofcolumbus8215.com
SUMMARY:Pancake Breakfast
DESCRIPTION:Enjoy a pancake breakfast after Sunday mass.
URL:https://knightsofcolumbus8215.com/event/pancake-breakfast/
LOCATION:Cathedral of the Holy Family\, 123 Nelson Road\, Saskatoon\, SK\, S7S 1H1\, Canada
CATEGORIES:Pancake Breakfast
END:VEVENT
BEGIN:VEVENT
DTSTART;TZID=America/Regina:20190309T170000
DTEND;TZID=America/Regina:20190309T233000
DTSTAMP:20260424T121917
CREATED:20190211T024207Z
LAST-MODIFIED:20190211T024832Z
UID:3843-1552150800-1552174200@knightsofcolumbus8215.com
SUMMARY:Gala Dinner Event
DESCRIPTION:Unity Knights of Columbus Council 5707 invite you to their Fundraising Gala Dinner Event scheduled for Saturday\, March 9\, 2019 at the Unity Community Center. This event is proudly supporting the Jim Pattison Children’s Hospital Foundation.
URL:https://knightsofcolumbus8215.com/event/gala-dinner-event/
LOCATION:Unity Community Center\, 407 7 Ave\,\, Unity\, SK\, S0K 4L0\, Canada
CATEGORIES:Events
END:VEVENT
BEGIN:VEVENT
DTSTART;TZID=America/Regina:20190224T100000
DTEND;TZID=America/Regina:20190224T133000
DTSTAMP:20260424T121917
CREATED:20190211T141147Z
LAST-MODIFIED:20190211T141147Z
UID:3852-1551002400-1551015000@knightsofcolumbus8215.com
SUMMARY:Sunday Sundaes
DESCRIPTION:Enjoy a sundae after Sunday mass.
URL:https://knightsofcolumbus8215.com/event/sunday-sundaes/
LOCATION:Cathedral of the Holy Family\, 123 Nelson Road\, Saskatoon\, SK\, S7S 1H1\, Canada
CATEGORIES:Sunday Sundaes
END:VEVENT
BEGIN:VEVENT
DTSTART;TZID=America/Regina:20190223T173000
DTEND;TZID=America/Regina:20190223T233000
DTSTAMP:20260424T121917
CREATED:20190211T142334Z
LAST-MODIFIED:20190211T142334Z
UID:3872-1550943000-1550964600@knightsofcolumbus8215.com
SUMMARY:Dine - Dinner - Dance
DESCRIPTION:Come join us for an evening of fun and friendship and in support of life.
URL:https://knightsofcolumbus8215.com/event/dine-dinner-dance/
LOCATION:Cathedral of the Holy Family\, 123 Nelson Road\, Saskatoon\, SK\, S7S 1H1\, Canada
CATEGORIES:Events
END:VEVENT
END:VCALENDAR